BEGIN:VCALENDAR
VERSION:2.0
PRODID:-//WPAFW - ECPv6.15.20//NONSGML v1.0//EN
CALSCALE:GREGORIAN
METHOD:PUBLISH
X-WR-CALNAME:WPAFW
X-ORIGINAL-URL:https://wpafw.org
X-WR-CALDESC:Events for WPAFW
REFRESH-INTERVAL;VALUE=DURATION:PT1H
X-Robots-Tag:noindex
X-PUBLISHED-TTL:PT1H
BEGIN:VTIMEZONE
TZID:America/Toronto
BEGIN:DAYLIGHT
TZOFFSETFROM:-0500
TZOFFSETTO:-0400
TZNAME:EDT
DTSTART:20240310T070000
END:DAYLIGHT
BEGIN:STANDARD
TZOFFSETFROM:-0400
TZOFFSETTO:-0500
TZNAME:EST
DTSTART:20241103T060000
END:STANDARD
BEGIN:DAYLIGHT
TZOFFSETFROM:-0500
TZOFFSETTO:-0400
TZNAME:EDT
DTSTART:20250309T070000
END:DAYLIGHT
BEGIN:STANDARD
TZOFFSETFROM:-0400
TZOFFSETTO:-0500
TZNAME:EST
DTSTART:20251102T060000
END:STANDARD
BEGIN:DAYLIGHT
TZOFFSETFROM:-0500
TZOFFSETTO:-0400
TZNAME:EDT
DTSTART:20260308T070000
END:DAYLIGHT
BEGIN:STANDARD
TZOFFSETFROM:-0400
TZOFFSETTO:-0500
TZNAME:EST
DTSTART:20261101T060000
END:STANDARD
END:VTIMEZONE
BEGIN:VEVENT
DTSTART;TZID=America/Toronto:20251003T090000
DTEND;TZID=America/Toronto:20251003T090000
DTSTAMP:20260425T114014
CREATED:20250917T222559Z
LAST-MODIFIED:20250927T195937Z
UID:2721-1759482000-1759482000@wpafw.org
SUMMARY:Furry Film Festival
DESCRIPTION:A showcase of random furry films from over the years. Will run during any downtime in room. Dedicated time on Saturday from 7:00pm to 9:00pm
URL:https://wpafw.org/event/furry-film-festival/
LOCATION:Fox (West Room)
END:VEVENT
BEGIN:VEVENT
DTSTART;TZID=America/Toronto:20251003T083000
DTEND;TZID=America/Toronto:20251003T083000
DTSTAMP:20260425T114014
CREATED:20250917T222559Z
LAST-MODIFIED:20250927T195936Z
UID:2718-1759480200-1759480200@wpafw.org
SUMMARY:Shuttles
DESCRIPTION:Shuttles to and from the con hotels and lodge.
URL:https://wpafw.org/event/shuttles/
LOCATION:Parking Lot
END:VEVENT
END:VCALENDAR